BEGIN:VCALENDAR
VERSION:2.0
PRODID:-//Łomżyński Klub Sportowy - ECPv6.15.15//NONSGML v1.0//EN
CALSCALE:GREGORIAN
METHOD:PUBLISH
X-ORIGINAL-URL:https://lks.lomza.pl
X-WR-CALDESC:Wydarzenia dla Łomżyński Klub Sportowy
REFRESH-INTERVAL;VALUE=DURATION:PT1H
X-Robots-Tag:noindex
X-PUBLISHED-TTL:PT1H
BEGIN:VTIMEZONE
TZID:Europe/Warsaw
BEGIN:DAYLIGHT
TZOFFSETFROM:+0100
TZOFFSETTO:+0200
TZNAME:CEST
DTSTART:20240331T010000
END:DAYLIGHT
BEGIN:STANDARD
TZOFFSETFROM:+0200
TZOFFSETTO:+0100
TZNAME:CET
DTSTART:20241027T010000
END:STANDARD
BEGIN:DAYLIGHT
TZOFFSETFROM:+0100
TZOFFSETTO:+0200
TZNAME:CEST
DTSTART:20250330T010000
END:DAYLIGHT
BEGIN:STANDARD
TZOFFSETFROM:+0200
TZOFFSETTO:+0100
TZNAME:CET
DTSTART:20251026T010000
END:STANDARD
BEGIN:DAYLIGHT
TZOFFSETFROM:+0100
TZOFFSETTO:+0200
TZNAME:CEST
DTSTART:20260329T010000
END:DAYLIGHT
BEGIN:STANDARD
TZOFFSETFROM:+0200
TZOFFSETTO:+0100
TZNAME:CET
DTSTART:20261025T010000
END:STANDARD
END:VTIMEZONE
BEGIN:VTIMEZONE
TZID:Europe/Helsinki
BEGIN:DAYLIGHT
TZOFFSETFROM:+0200
TZOFFSETTO:+0300
TZNAME:EEST
DTSTART:20240331T010000
END:DAYLIGHT
BEGIN:STANDARD
TZOFFSETFROM:+0300
TZOFFSETTO:+0200
TZNAME:EET
DTSTART:20241027T010000
END:STANDARD
BEGIN:DAYLIGHT
TZOFFSETFROM:+0200
TZOFFSETTO:+0300
TZNAME:EEST
DTSTART:20250330T010000
END:DAYLIGHT
BEGIN:STANDARD
TZOFFSETFROM:+0300
TZOFFSETTO:+0200
TZNAME:EET
DTSTART:20251026T010000
END:STANDARD
BEGIN:DAYLIGHT
TZOFFSETFROM:+0200
TZOFFSETTO:+0300
TZNAME:EEST
DTSTART:20260329T010000
END:DAYLIGHT
BEGIN:STANDARD
TZOFFSETFROM:+0300
TZOFFSETTO:+0200
TZNAME:EET
DTSTART:20261025T010000
END:STANDARD
END:VTIMEZONE
BEGIN:VTIMEZONE
TZID:UTC
BEGIN:STANDARD
TZOFFSETFROM:+0000
TZOFFSETTO:+0000
TZNAME:UTC
DTSTART:20240101T000000
END:STANDARD
END:VTIMEZONE
BEGIN:VEVENT
DTSTART;TZID=Europe/Warsaw:20251115T130000
DTEND;TZID=Europe/Warsaw:20251115T150000
DTSTAMP:20260425T221833
CREATED:20251112T160215Z
LAST-MODIFIED:20251118T123836Z
UID:10000063-1763211600-1763218800@lks.lomza.pl
SUMMARY:Mławianka Mława - ŁKS Łomża (0-1)
DESCRIPTION:
URL:https://lks.lomza.pl/wydarzenia/mlawianka-mlawa-lks-lomza/
END:VEVENT
BEGIN:VEVENT
DTSTART;TZID=Europe/Warsaw:20251108T130000
DTEND;TZID=Europe/Warsaw:20251108T150000
DTSTAMP:20260425T221833
CREATED:20251103T152556Z
LAST-MODIFIED:20251112T160100Z
UID:10000059-1762606800-1762614000@lks.lomza.pl
SUMMARY:ŁKS Łomża - KS CK Troszyn (2-3)
DESCRIPTION:W 16. kolejce Betclic III ligi na Stadionie Miejskim w Łomży przy ul. Zjazd 18 ŁKS Łomża podejmie KS CK Troszyn. Spotkanie zostanie rozegrane w sobotę\, 8 listopada 2025 r. o godz. 13:00. \n\n\n\nZarezerwuj czas\, zabierz znajomych i rodzinę – wspólnie dopingujmy ŁKS Łomża! \n\n\n\nPrzyjdź wcześniej na stadion\, żeby uniknąć kolejek i nie przegapić pierwszego gwizdka. Bramy stadionu zostaną otwarte godzinę przed meczem.
URL:https://lks.lomza.pl/wydarzenia/lks-lomza-ks-ck-troszyn/
END:VEVENT
BEGIN:VEVENT
DTSTART;TZID=Europe/Warsaw:20251102T150000
DTEND;TZID=Europe/Warsaw:20251102T170000
DTSTAMP:20260425T221833
CREATED:20251020T091206Z
LAST-MODIFIED:20251103T151630Z
UID:10000058-1762095600-1762102800@lks.lomza.pl
SUMMARY:GKS Bełchatów - ŁKS Łomża (1-4)
DESCRIPTION:
URL:https://lks.lomza.pl/wydarzenia/gks-belchatow-lks-lomza/
END:VEVENT
BEGIN:VEVENT
DTSTART;TZID=Europe/Warsaw:20251029T130000
DTEND;TZID=Europe/Warsaw:20251029T150000
DTSTAMP:20260425T221833
CREATED:20251020T091009Z
LAST-MODIFIED:20251029T160322Z
UID:10000057-1761742800-1761750000@lks.lomza.pl
SUMMARY:Legia II Warszawa - ŁKS Łomża (0-0)
DESCRIPTION:
URL:https://lks.lomza.pl/wydarzenia/legia-ii-warszawa-lks-lomza/
END:VEVENT
BEGIN:VEVENT
DTSTART;TZID=Europe/Warsaw:20251025T143000
DTEND;TZID=Europe/Warsaw:20251025T163000
DTSTAMP:20260425T221833
CREATED:20251020T075949Z
LAST-MODIFIED:20251025T175124Z
UID:10000056-1761402600-1761409800@lks.lomza.pl
SUMMARY:ŁKS Łomża - Świt Nowy Dwór Mazowiecki (3-0)
DESCRIPTION:W 14. kolejce Betclic III ligi na Stadionie Miejskim w Łomży przy ul. Zjazd 18 ŁKS Łomża podejmie Świt Nowy Dwór Mazowiecki. Spotkanie zostanie rozegrane w sobotę\, 25 października 2025 r. o godz. 14:30. \n\n\n\nZarezerwuj czas\, zabierz znajomych i rodzinę – wspólnie dopingujmy ŁKS Łomża! \n\n\n\nPrzyjdź wcześniej na stadion\, żeby uniknąć kolejek i nie przegapić pierwszego gwizdka. Bramy stadionu zostaną otwarte godzinę przed meczem.
URL:https://lks.lomza.pl/wydarzenia/lks-lomza-swit-nowy-dwor-mazowiecki-2/
END:VEVENT
BEGIN:VEVENT
DTSTART;TZID=Europe/Warsaw:20251018T150000
DTEND;TZID=Europe/Warsaw:20251018T170000
DTSTAMP:20260425T221833
CREATED:20251008T180707Z
LAST-MODIFIED:20251020T074018Z
UID:10000054-1760799600-1760806800@lks.lomza.pl
SUMMARY:ŁKS Łomża - Jagiellonia II Białystok (2-0)
DESCRIPTION:W 13. kolejce Betclic III ligii  na Stadionie Miejskim w Łomży przy ul. Zjazd 18 ŁKS Łomża podejmie drużynę Jagiellonii II Białystok. Spotkanie zostanie rozegrane w sobotę\, 18 października 2025 r. o godz. 15:00. \n\n\n\nZarezerwuj czas\, zabierz znajomych i rodzinę – wspólnie dopingujmy ŁKS Łomża! \n\n\n\nPrzyjdź wcześniej na stadion\, żeby uniknąć kolejek i nie przegapić pierwszego gwizdka. Bramy stadionu zostaną otwarte godzinę przed meczem.
URL:https://lks.lomza.pl/wydarzenia/lks-lomza-jagiellonia-ii-bialystok/
END:VEVENT
BEGIN:VEVENT
DTSTART;TZID=Europe/Warsaw:20251008T153000
DTEND;TZID=Europe/Warsaw:20251008T173000
DTSTAMP:20260425T221833
CREATED:20251005T081228Z
LAST-MODIFIED:20251008T181249Z
UID:10000053-1759937400-1759944600@lks.lomza.pl
SUMMARY:(OPP) KS Śniadowo - ŁKS Łomża (2-6)
DESCRIPTION:
URL:https://lks.lomza.pl/wydarzenia/ks-sniadowo-lks-lomza-opp/
END:VEVENT
BEGIN:VEVENT
DTSTART;TZID=Europe/Warsaw:20251004T150000
DTEND;TZID=Europe/Warsaw:20251004T170000
DTSTAMP:20260425T221833
CREATED:20250929T100829Z
LAST-MODIFIED:20251008T180739Z
UID:10000052-1759590000-1759597200@lks.lomza.pl
SUMMARY:ŁKS Łomża - GKS Wikielec (4-1)
DESCRIPTION:W 11. kolejce Betclic III ligi na Stadionie Miejskim w Łomży przy ul. Zjazd 18 ŁKS Łomża podejmie drużynę GKS Wikielec. Spotkanie zostanie rozegrane w sobotę\, 4 października 2025 r. o godz. 15:00. Otwarcie bramek stadionu nastąpi o 14:00. \n\n\n\nCzas na przełamanie i zwycięstwo! Zarezerwuj czas\, zabierz znajomych i rodzinę – wspólnie dopingujmy ŁKS Łomża! \n\n\n\nPrzyjdź wcześniej na stadion\, jeśli nie chcesz stać w kolejce i spóźnić się na pierwszy gwizdek.
URL:https://lks.lomza.pl/wydarzenia/lks-lomza-gks-wikielec/
END:VEVENT
BEGIN:VEVENT
DTSTART;TZID=Europe/Warsaw:20250927T140000
DTEND;TZID=Europe/Warsaw:20250927T160000
DTSTAMP:20260425T221833
CREATED:20250929T095535Z
LAST-MODIFIED:20250929T095606Z
UID:10000051-1758981600-1758988800@lks.lomza.pl
SUMMARY:Lechia Tomaszów Mazowiecki - ŁKS Łomża (1-1)
DESCRIPTION:
URL:https://lks.lomza.pl/wydarzenia/lechia-tomaszow-mazowiecki-lks-lomza-1-1/
END:VEVENT
BEGIN:VEVENT
DTSTART;TZID=Europe/Warsaw:20250924T180000
DTEND;TZID=Europe/Warsaw:20250924T200000
DTSTAMP:20260425T221833
CREATED:20250920T192434Z
LAST-MODIFIED:20250924T145249Z
UID:10000050-1758736800-1758744000@lks.lomza.pl
SUMMARY:ŁKS Łomża - Odra Opole
DESCRIPTION:Pucharowa środa na Z18! W pierwszej rundzie STS Pucharu Polski biało-czerwoni zagrają na własnym stadionie z Odrą Opole. Rywal z Opola na co dzień występuje w Betclic 1. Lidze. W poprzednim sezonie odrzańska drużyna zakończyła rozgrywki na 14. miejscu z dorobkiem 30 punktów. Dla ŁKS-u to okazja\, by przy wsparciu kibiców powalczyć o awans do kolejnej rundy ogólnopolskiego turnieju. \n\n\n\nKiedy i gdzie?Środa\, 24 września 2025 r.\, godz. 18:00 • Stadion Miejski w Łomży\, ul. Zjazd 18. \n\n\n\nNajważniejsze informacje: \n\n\n\nPrzygotuj dokument (dowód osobisty\, paszport lub legitymację) oraz bilet – papierowy lub w telefonie. Dzięki temu sprawnie przejdziesz kontrolę i szybciej zajmiesz miejsce na trybunach \n\n\n\nMecz ma charakter imprezy masowej – obowiązują bilety imienne. Przy zakupie konieczne jest podanie: imienia\, nazwiska oraz numeru PESEL. \n\n\n\nPrzyjdź wcześniej na stadion\, jeśli nie chcesz stać w kolejce i spóźnić się na pierwszy gwizdek – przed wejściem przeprowadzana będzie weryfikacja danych z biletu i dokumentu tożsamości.
URL:https://lks.lomza.pl/wydarzenia/lks-lomza-odra-opole-2/
ATTACH;FMTTYPE=image/jpeg:https://lks.lomza.pl/wp-content/uploads/2025/09/24.09-1800-Lomza-Zjazd-18.jpg
END:VEVENT
BEGIN:VEVENT
DTSTART;TZID=Europe/Warsaw:20250920T160000
DTEND;TZID=Europe/Warsaw:20250920T180000
DTSTAMP:20260425T221833
CREATED:20250914T211935Z
LAST-MODIFIED:20250917T125929Z
UID:10000044-1758384000-1758391200@lks.lomza.pl
SUMMARY:ŁKS Łomża - Wigry Suwałki
DESCRIPTION:W 9. kolejce Betclic III ligi na Stadionie Miejskim w Łomży przy ul. Zjazd 18 ŁKS Łomża podejmie drużynę Wigier Suwałki. Spotkanie zostanie rozegrane w sobotę\, 20 września 2025 r. o godz. 15:00. Otwarcie bramek stadionu nastąpi o 13:30.Zarezerwuj czas\, zabierz znajomych i rodzinę – tego wydarzenia nie można przegapić! \n\n\n\nNajważniejsze informacje: \n\n\n\nPrzygotuj dokument (dowód osobisty\, paszport lub legitymację) oraz bilet – papierowy lub w telefonie. Dzięki temu sprawnie przejdziesz kontrolę i szybciej zajmiesz miejsce na trybunach \n\n\n\nMecz ma charakter imprezy masowej – obowiązują bilety imienne. Przy zakupie konieczne jest podanie: imienia\, nazwiska oraz numeru PESEL. \n\n\n\nPrzyjdź wcześniej na stadion\, jeśli nie chcesz stać w kolejce i spóźnić się na pierwszy gwizdek – przed wejściem przeprowadzana będzie weryfikacja danych z biletu i dokumentu tożsamości.
URL:https://lks.lomza.pl/wydarzenia/lks-lomza-wigry-suwalki/
ATTACH;FMTTYPE=image/png:https://lks.lomza.pl/wp-content/uploads/2025/09/Baner-Wigry-Sauczek.png
END:VEVENT
BEGIN:VEVENT
DTSTART;TZID=Europe/Helsinki:20250912T163000
DTEND;TZID=Europe/Helsinki:20250912T183000
DTSTAMP:20260425T221833
CREATED:20250826T164842Z
LAST-MODIFIED:20250826T164843Z
UID:10000023-1757694600-1757701800@lks.lomza.pl
SUMMARY:Ząbkovia Ząbki - ŁKS Łomża
DESCRIPTION:Wyjazdowy hit na szczycie \n\n\n\nJedziemy po kolejne ligowe punkty w meczu o najwyższą stawkę! \n\n\n\nW piątek\, 12 września 2025 r. o godz. 16:30 czeka nas wyjazdowy pojedynek na szczycie tabeli przeciwko Ząbkovii Ząbki. ŁKS Łomża zamierza kontynuować doskonałą passę i umocnić swoją pozycję w ligowej tabeli. \n\n\n\nDo zobaczenia na sektorze gości – razem po trzy punkty!
URL:https://lks.lomza.pl/wydarzenia/zabkovia-zabki-lks-lomza/
END:VEVENT
BEGIN:VEVENT
DTSTART;TZID=Europe/Helsinki:20250906T150000
DTEND;TZID=Europe/Helsinki:20250906T170000
DTSTAMP:20260425T221833
CREATED:20250904T192029Z
LAST-MODIFIED:20250906T150735Z
UID:10000042-1757170800-1757178000@lks.lomza.pl
SUMMARY:ŁKS Łomża - Olimpia Elbląg
DESCRIPTION:Hit Rundy Jesiennej przy ul. Zjazd 18 \n\n\n\nW 7. kolejce Betclic III ligi na Stadionie Miejskim w Łomży przy ul. Zjazd 18 ŁKS Łomża podejmie drużynę Olimpii Elbląg. Spotkanie zostanie rozegrane 6 września 2025 o godz. 15.00. Otwarcie kas biletowych nastąpi o 13:30 \n\n\n\nZarezerwuj czas\, zabierz znajomych i rodzinę – tego wydarzenia nie można przegapić! \n\n\n\nNajważniejsze informacje:\n\n\n\nMecz ma charakter imprezy masowej\, dlatego obowiązują bilety imienne. Przy zakupie wejściówki konieczne jest podanie: imienia\, nazwiska oraz numeru PESEL. \n\n\n\nPrzyjdź wcześniej na stadion – przed wejściem przeprowadzana będzie weryfikacja danych z biletu i dokumentu tożsamości.Przygotuj dokument (dowód osobisty\, paszport lub legitymację) oraz bilet – papierowy lub w telefonie. Trzymanie ich pod ręką pozwoli sprawnie przejść kontrolę i szybciej zająć miejsce na trybunach.
URL:https://lks.lomza.pl/wydarzenia/lks-lomza-olimpia-elblag/
ATTACH;FMTTYPE=image/png:https://lks.lomza.pl/wp-content/uploads/2025/09/Baner-Olimpia-bilet-elektroniczny.png
END:VEVENT
BEGIN:VEVENT
DTSTART;TZID=Europe/Helsinki:20250830T150000
DTEND;TZID=Europe/Helsinki:20250830T170000
DTSTAMP:20260425T221833
CREATED:20250826T151524Z
LAST-MODIFIED:20250829T094001Z
UID:10000021-1756566000-1756573200@lks.lomza.pl
SUMMARY:ŁKS Łomża - Broń Radom
DESCRIPTION:ŁKS Łomża – Broń Radom: gramy u siebie! \n\n\n\nW 6. kolejce Betclic III ligi (gr. I) ŁKS Łomża podejmie przed własną publicznością Broń Radom. Gramy w sobotę\, 30 sierpnia\, o godz. 15:00 na Stadionie Miejskim w Łomży przy ul. Zjazd 18. Wszyscy na trybuny! ⚪🔴 \n\n\n\nOstatnie bezpośrednie mecze pokazują\, że emocji nie zabraknie: jesienią 2024 w Radomiu było 2:0 dla Broni\, a w kwietniu 2025 zremisowaliśmy 2:2 w Łomży. Czas odwrócić karty u siebie!  \n\n\n\nPo trzy punkty\, Drużyno! \n\n\n\nDo boju\, ŁKS! 💪
URL:https://lks.lomza.pl/wydarzenia/lks-lomza-bron-radom/
CATEGORIES:mecze
ATTACH;FMTTYPE=image/jpeg:https://lks.lomza.pl/wp-content/uploads/2025/08/20250823-_A1A2756-scaled.jpg
END:VEVENT
BEGIN:VEVENT
DTSTART;TZID=Europe/Helsinki:20250827T170000
DTEND;TZID=Europe/Helsinki:20250827T190000
DTSTAMP:20260425T221833
CREATED:20250826T142156Z
LAST-MODIFIED:20250826T144455Z
UID:10000020-1756314000-1756321200@lks.lomza.pl
SUMMARY:Wisła II Płock - ŁKS Łomża
DESCRIPTION:ŁKS Łomża w Płocku – jedziemy po kolejne punkty! \n\n\n\nW 5. kolejce Betclic III ligi ŁKS Łomża zagra na wyjeździe z rezerwami Wisły Płock. Mecz odbędzie się w środę\, 27 sierpnia\, o godz. 17:00 na bocznym boisku B2 przy ORLEN Stadionie w Płocku. \n\n\n\nPo świetnym starcie sezonu ŁKS Łomża jest liderem tabeli\, a Wisła II Płock plasuje się w środku górnej połówki zestawienia (6. miejsce) — zapowiada się mecz na wysokiej intensywności. \n\n\n\nHistoria jest po naszej stronie: ostatni mecz wyjazdowy do Płocka zakończył się zwycięstwem ŁKS-u. Teraz czas powtórzyć ten scenariusz! \n\n\n\nPlan na jutro: wysoki pressing\, konsekwencja z tyłu i bezlitosna skuteczność z przodu. \n\n\n\nDo boju\, ŁKS! ⚪🔴
URL:https://lks.lomza.pl/wydarzenia/wisla-ii-plock-lks-lomza/
CATEGORIES:mecze
ATTACH;FMTTYPE=image/jpeg:https://lks.lomza.pl/wp-content/uploads/2025/08/02e03bf0-63bd-482d-b8a8-3a546e5a81ae.jpg
END:VEVENT
BEGIN:VEVENT
DTSTART;TZID=Europe/Helsinki:20250823T150000
DTEND;TZID=Europe/Helsinki:20250823T170000
DTSTAMP:20260425T221833
CREATED:20250813T165807Z
LAST-MODIFIED:20250824T094411Z
UID:10000016-1755961200-1755968400@lks.lomza.pl
SUMMARY:ŁKS ŁOMŻA - ZNICZ BIAŁA PISKA (4-0)
DESCRIPTION:👉 Drugi domowy mecz rundy jesiennej sezonu III ligi 2025/2026! \n\n\n\nJuż w najbliższą sobotę 23 sierpnia 2025 r.\, godz. 15:00 na Stadionie Miejskim w Łomży przy ul. Zjazd 18 ŁKS Łomża podejmie Znicz Biała Piska. Po kapitalnym starcie sezonu biało-czerwoni wracają na własny teren\, by podtrzymać zwycięską passę i obronić fotel lidera. Bądź na trybunach i wspieraj Łomżyński Klub Sportowy! \n\n\n\n🎉 Atrakcje dostępne na stadionie: \n\n\n\n🧣 Stoisko z oficjalnymi gadżetami ŁKS Łomża \n\n\n\n🍔 Strefa gastronomiczna: grill z kiełbaskami\, napoje\, popcorn\, przekąski \n\n\n\n🎈 Strefa dziecięca: dmuchańce\, malowanie twarzy \n\n\n\nℹ️ Warto wiedzieć: \n\n\n\n👶 Wstęp dla dzieci do lat 12 – bezpłatny \n\n\n\n🎫 Dostęp do trybuny VIP wyłącznie z biletem lub karnetem VIP \n\n\n\n🎫 Bilet ulgowy przysługuje: kobietom\, uczniom\, emerytom\, rencistom oraz osobom z orzeczoną niepełnosprawnością
URL:https://lks.lomza.pl/wydarzenia/lks-lomza-znicz-biala-piska/
ATTACH;FMTTYPE=image/jpeg:https://lks.lomza.pl/wp-content/uploads/2025/08/20250816-BA1A1197-scaled.jpg
END:VEVENT
BEGIN:VEVENT
DTSTART;TZID=Europe/Helsinki:20250816T130000
DTEND;TZID=Europe/Helsinki:20250816T150000
DTSTAMP:20260425T221833
CREATED:20250813T204507Z
LAST-MODIFIED:20250818T072110Z
UID:10000017-1755349200-1755356400@lks.lomza.pl
SUMMARY:KS WASILKÓW - ŁKS ŁOMŻA (0-2)
DESCRIPTION:Łomżyński Klub Sportowy na wyjeździe w Wasilkowie  \n\n\n\nW ramach 3. kolejki rozgrywek III ligi (grupa I) ŁKS Łomża zmierzy się na wyjeździe z beniaminkiem – KS Wasilków. Spotkanie odbędzie się 16 sierpnia o godzinie 13:00 na Stadionie Miejskim w Wasilkowie. \n\n\n\n Zespół z Łomży\, mający za sobą udany start rozgrywek\, zamierza kontynuować dobrą passę i umocnić swoją pozycję w ligowej stawce. KS Wasilków\, który po latach ponownie rywalizuje na trzecioligowym szczeblu\, niewątpliwie zamierza kontynuować dobrą serię i sięgnąć po następne zwycięstwo. \n\n\n\nŁKS jedzie do Wasilkowa po pełną pulę i nie planuje wracać z niczym innym niż trzema punktami.
URL:https://lks.lomza.pl/wydarzenia/ks-wasilkow-lks-lomza-3/
ATTACH;FMTTYPE=image/jpeg:https://lks.lomza.pl/wp-content/uploads/2025/08/20250809-BA1A8232-2-scaled.jpg
END:VEVENT
BEGIN:VEVENT
DTSTART;TZID=Europe/Helsinki:20250809T120000
DTEND;TZID=Europe/Helsinki:20250809T170000
DTSTAMP:20260425T221833
CREATED:20250804T092322Z
LAST-MODIFIED:20250811T074558Z
UID:10000014-1754740800-1754758800@lks.lomza.pl
SUMMARY:ŁKS ŁOMŻA - WIDZEW II ŁÓDŹ (6-4)
DESCRIPTION:👉 Pierwszy domowy mecz rundy jesiennej sezonu III ligi 2025/2026! \n\n\n\nJuż w najbliższą sobotę nasz zespół zmierzy się z rezerwami Widzewa Łódź! Szykuje się widowisko pełne piłkarskich emocji i niesamowitej atmosfery – nie może Cię zabraknąć na trybunach! \n\n\n\n\n\n\n\n🎉 Atrakcje dostępne na stadionie: \n\n\n\n\n🧣 Stoisko z oficjalnymi gadżetami ŁKS Łomża\n\n\n\n🍔 Strefa gastronomiczna: grill z kiełbaskami\, napoje\, popcorn\, przekąski\n\n\n\n🎈 Strefa dziecięca: dmuchańce\, malowanie twarzy i inne niespodzianki\n\n\n\n\n🥊 Dodatkowo:Pierwsze oficjalne FACE TO FACE zawodników gali Fight District 2 – już w przerwie meczu! \n\n\n\n\n\n\n\nℹ️ Warto wiedzieć:\n\n\n\n\n👶 Wstęp dla dzieci do lat 12 – bezpłatny\n\n\n\n🎫 Dostęp do trybuny VIP wyłącznie z biletem lub karnetem VIP\n\n\n\n🚧 Wjazd na teren obiektu wyłącznie dla osób upoważnionych\n\n\n\n\n\n\n\n\nNie przegap tego wydarzenia!Przyjdź z rodziną i znajomymi\, wspieraj ŁKS Łomża i baw się razem z nami!
URL:https://lks.lomza.pl/wydarzenia/lks-lomza-widzew-ii-lodz/
ATTACH;FMTTYPE=image/jpeg:https://lks.lomza.pl/wp-content/uploads/2025/08/BA1A7410-scaled.jpg
END:VEVENT
BEGIN:VEVENT
DTSTART;TZID=UTC:20250802T183000
DTEND;TZID=UTC:20250802T203000
DTSTAMP:20260425T221833
CREATED:20250728T162251Z
LAST-MODIFIED:20250805T100507Z
UID:10000009-1754159400-1754166600@lks.lomza.pl
SUMMARY:WARTA SIERADZ - ŁKS ŁOMŻA (1-2)
DESCRIPTION:
URL:https://lks.lomza.pl/wydarzenia/lks-lomza-real-madryt/
END:VEVENT
END:VCALENDAR