BEGIN:VCALENDAR
VERSION:2.0
PRODID:-//Łomżyński Klub Sportowy - ECPv6.15.15//NONSGML v1.0//EN
CALSCALE:GREGORIAN
METHOD:PUBLISH
X-WR-CALNAME:Łomżyński Klub Sportowy
X-ORIGINAL-URL:https://lks.lomza.pl
X-WR-CALDESC:Wydarzenia dla Łomżyński Klub Sportowy
REFRESH-INTERVAL;VALUE=DURATION:PT1H
X-Robots-Tag:noindex
X-PUBLISHED-TTL:PT1H
BEGIN:VTIMEZONE
TZID:Europe/Helsinki
BEGIN:DAYLIGHT
TZOFFSETFROM:+0200
TZOFFSETTO:+0300
TZNAME:EEST
DTSTART:20240331T010000
END:DAYLIGHT
BEGIN:STANDARD
TZOFFSETFROM:+0300
TZOFFSETTO:+0200
TZNAME:EET
DTSTART:20241027T010000
END:STANDARD
BEGIN:DAYLIGHT
TZOFFSETFROM:+0200
TZOFFSETTO:+0300
TZNAME:EEST
DTSTART:20250330T010000
END:DAYLIGHT
BEGIN:STANDARD
TZOFFSETFROM:+0300
TZOFFSETTO:+0200
TZNAME:EET
DTSTART:20251026T010000
END:STANDARD
BEGIN:DAYLIGHT
TZOFFSETFROM:+0200
TZOFFSETTO:+0300
TZNAME:EEST
DTSTART:20260329T010000
END:DAYLIGHT
BEGIN:STANDARD
TZOFFSETFROM:+0300
TZOFFSETTO:+0200
TZNAME:EET
DTSTART:20261025T010000
END:STANDARD
END:VTIMEZONE
BEGIN:VTIMEZONE
TZID:UTC
BEGIN:STANDARD
TZOFFSETFROM:+0000
TZOFFSETTO:+0000
TZNAME:UTC
DTSTART:20240101T000000
END:STANDARD
END:VTIMEZONE
BEGIN:VEVENT
DTSTART;TZID=Europe/Helsinki:20250906T150000
DTEND;TZID=Europe/Helsinki:20250906T170000
DTSTAMP:20260426T000619
CREATED:20250904T192029Z
LAST-MODIFIED:20250906T150735Z
UID:10000042-1757170800-1757178000@lks.lomza.pl
SUMMARY:ŁKS Łomża - Olimpia Elbląg
DESCRIPTION:Hit Rundy Jesiennej przy ul. Zjazd 18 \n\n\n\nW 7. kolejce Betclic III ligi na Stadionie Miejskim w Łomży przy ul. Zjazd 18 ŁKS Łomża podejmie drużynę Olimpii Elbląg. Spotkanie zostanie rozegrane 6 września 2025 o godz. 15.00. Otwarcie kas biletowych nastąpi o 13:30 \n\n\n\nZarezerwuj czas\, zabierz znajomych i rodzinę – tego wydarzenia nie można przegapić! \n\n\n\nNajważniejsze informacje:\n\n\n\nMecz ma charakter imprezy masowej\, dlatego obowiązują bilety imienne. Przy zakupie wejściówki konieczne jest podanie: imienia\, nazwiska oraz numeru PESEL. \n\n\n\nPrzyjdź wcześniej na stadion – przed wejściem przeprowadzana będzie weryfikacja danych z biletu i dokumentu tożsamości.Przygotuj dokument (dowód osobisty\, paszport lub legitymację) oraz bilet – papierowy lub w telefonie. Trzymanie ich pod ręką pozwoli sprawnie przejść kontrolę i szybciej zająć miejsce na trybunach.
URL:https://lks.lomza.pl/wydarzenia/lks-lomza-olimpia-elblag/
ATTACH;FMTTYPE=image/png:https://lks.lomza.pl/wp-content/uploads/2025/09/Baner-Olimpia-bilet-elektroniczny.png
END:VEVENT
BEGIN:VEVENT
DTSTART;TZID=Europe/Helsinki:20250830T150000
DTEND;TZID=Europe/Helsinki:20250830T170000
DTSTAMP:20260426T000619
CREATED:20250826T151524Z
LAST-MODIFIED:20250829T094001Z
UID:10000021-1756566000-1756573200@lks.lomza.pl
SUMMARY:ŁKS Łomża - Broń Radom
DESCRIPTION:ŁKS Łomża – Broń Radom: gramy u siebie! \n\n\n\nW 6. kolejce Betclic III ligi (gr. I) ŁKS Łomża podejmie przed własną publicznością Broń Radom. Gramy w sobotę\, 30 sierpnia\, o godz. 15:00 na Stadionie Miejskim w Łomży przy ul. Zjazd 18. Wszyscy na trybuny! ⚪🔴 \n\n\n\nOstatnie bezpośrednie mecze pokazują\, że emocji nie zabraknie: jesienią 2024 w Radomiu było 2:0 dla Broni\, a w kwietniu 2025 zremisowaliśmy 2:2 w Łomży. Czas odwrócić karty u siebie!  \n\n\n\nPo trzy punkty\, Drużyno! \n\n\n\nDo boju\, ŁKS! 💪
URL:https://lks.lomza.pl/wydarzenia/lks-lomza-bron-radom/
CATEGORIES:mecze
ATTACH;FMTTYPE=image/jpeg:https://lks.lomza.pl/wp-content/uploads/2025/08/20250823-_A1A2756-scaled.jpg
END:VEVENT
BEGIN:VEVENT
DTSTART;TZID=Europe/Helsinki:20250827T170000
DTEND;TZID=Europe/Helsinki:20250827T190000
DTSTAMP:20260426T000619
CREATED:20250826T142156Z
LAST-MODIFIED:20250826T144455Z
UID:10000020-1756314000-1756321200@lks.lomza.pl
SUMMARY:Wisła II Płock - ŁKS Łomża
DESCRIPTION:ŁKS Łomża w Płocku – jedziemy po kolejne punkty! \n\n\n\nW 5. kolejce Betclic III ligi ŁKS Łomża zagra na wyjeździe z rezerwami Wisły Płock. Mecz odbędzie się w środę\, 27 sierpnia\, o godz. 17:00 na bocznym boisku B2 przy ORLEN Stadionie w Płocku. \n\n\n\nPo świetnym starcie sezonu ŁKS Łomża jest liderem tabeli\, a Wisła II Płock plasuje się w środku górnej połówki zestawienia (6. miejsce) — zapowiada się mecz na wysokiej intensywności. \n\n\n\nHistoria jest po naszej stronie: ostatni mecz wyjazdowy do Płocka zakończył się zwycięstwem ŁKS-u. Teraz czas powtórzyć ten scenariusz! \n\n\n\nPlan na jutro: wysoki pressing\, konsekwencja z tyłu i bezlitosna skuteczność z przodu. \n\n\n\nDo boju\, ŁKS! ⚪🔴
URL:https://lks.lomza.pl/wydarzenia/wisla-ii-plock-lks-lomza/
CATEGORIES:mecze
ATTACH;FMTTYPE=image/jpeg:https://lks.lomza.pl/wp-content/uploads/2025/08/02e03bf0-63bd-482d-b8a8-3a546e5a81ae.jpg
END:VEVENT
BEGIN:VEVENT
DTSTART;TZID=Europe/Helsinki:20250823T150000
DTEND;TZID=Europe/Helsinki:20250823T170000
DTSTAMP:20260426T000619
CREATED:20250813T165807Z
LAST-MODIFIED:20250824T094411Z
UID:10000016-1755961200-1755968400@lks.lomza.pl
SUMMARY:ŁKS ŁOMŻA - ZNICZ BIAŁA PISKA (4-0)
DESCRIPTION:👉 Drugi domowy mecz rundy jesiennej sezonu III ligi 2025/2026! \n\n\n\nJuż w najbliższą sobotę 23 sierpnia 2025 r.\, godz. 15:00 na Stadionie Miejskim w Łomży przy ul. Zjazd 18 ŁKS Łomża podejmie Znicz Biała Piska. Po kapitalnym starcie sezonu biało-czerwoni wracają na własny teren\, by podtrzymać zwycięską passę i obronić fotel lidera. Bądź na trybunach i wspieraj Łomżyński Klub Sportowy! \n\n\n\n🎉 Atrakcje dostępne na stadionie: \n\n\n\n🧣 Stoisko z oficjalnymi gadżetami ŁKS Łomża \n\n\n\n🍔 Strefa gastronomiczna: grill z kiełbaskami\, napoje\, popcorn\, przekąski \n\n\n\n🎈 Strefa dziecięca: dmuchańce\, malowanie twarzy \n\n\n\nℹ️ Warto wiedzieć: \n\n\n\n👶 Wstęp dla dzieci do lat 12 – bezpłatny \n\n\n\n🎫 Dostęp do trybuny VIP wyłącznie z biletem lub karnetem VIP \n\n\n\n🎫 Bilet ulgowy przysługuje: kobietom\, uczniom\, emerytom\, rencistom oraz osobom z orzeczoną niepełnosprawnością
URL:https://lks.lomza.pl/wydarzenia/lks-lomza-znicz-biala-piska/
ATTACH;FMTTYPE=image/jpeg:https://lks.lomza.pl/wp-content/uploads/2025/08/20250816-BA1A1197-scaled.jpg
END:VEVENT
BEGIN:VEVENT
DTSTART;TZID=Europe/Helsinki:20250816T130000
DTEND;TZID=Europe/Helsinki:20250816T150000
DTSTAMP:20260426T000619
CREATED:20250813T204507Z
LAST-MODIFIED:20250818T072110Z
UID:10000017-1755349200-1755356400@lks.lomza.pl
SUMMARY:KS WASILKÓW - ŁKS ŁOMŻA (0-2)
DESCRIPTION:Łomżyński Klub Sportowy na wyjeździe w Wasilkowie  \n\n\n\nW ramach 3. kolejki rozgrywek III ligi (grupa I) ŁKS Łomża zmierzy się na wyjeździe z beniaminkiem – KS Wasilków. Spotkanie odbędzie się 16 sierpnia o godzinie 13:00 na Stadionie Miejskim w Wasilkowie. \n\n\n\n Zespół z Łomży\, mający za sobą udany start rozgrywek\, zamierza kontynuować dobrą passę i umocnić swoją pozycję w ligowej stawce. KS Wasilków\, który po latach ponownie rywalizuje na trzecioligowym szczeblu\, niewątpliwie zamierza kontynuować dobrą serię i sięgnąć po następne zwycięstwo. \n\n\n\nŁKS jedzie do Wasilkowa po pełną pulę i nie planuje wracać z niczym innym niż trzema punktami.
URL:https://lks.lomza.pl/wydarzenia/ks-wasilkow-lks-lomza-3/
ATTACH;FMTTYPE=image/jpeg:https://lks.lomza.pl/wp-content/uploads/2025/08/20250809-BA1A8232-2-scaled.jpg
END:VEVENT
BEGIN:VEVENT
DTSTART;TZID=Europe/Helsinki:20250809T120000
DTEND;TZID=Europe/Helsinki:20250809T170000
DTSTAMP:20260426T000619
CREATED:20250804T092322Z
LAST-MODIFIED:20250811T074558Z
UID:10000014-1754740800-1754758800@lks.lomza.pl
SUMMARY:ŁKS ŁOMŻA - WIDZEW II ŁÓDŹ (6-4)
DESCRIPTION:👉 Pierwszy domowy mecz rundy jesiennej sezonu III ligi 2025/2026! \n\n\n\nJuż w najbliższą sobotę nasz zespół zmierzy się z rezerwami Widzewa Łódź! Szykuje się widowisko pełne piłkarskich emocji i niesamowitej atmosfery – nie może Cię zabraknąć na trybunach! \n\n\n\n\n\n\n\n🎉 Atrakcje dostępne na stadionie: \n\n\n\n\n🧣 Stoisko z oficjalnymi gadżetami ŁKS Łomża\n\n\n\n🍔 Strefa gastronomiczna: grill z kiełbaskami\, napoje\, popcorn\, przekąski\n\n\n\n🎈 Strefa dziecięca: dmuchańce\, malowanie twarzy i inne niespodzianki\n\n\n\n\n🥊 Dodatkowo:Pierwsze oficjalne FACE TO FACE zawodników gali Fight District 2 – już w przerwie meczu! \n\n\n\n\n\n\n\nℹ️ Warto wiedzieć:\n\n\n\n\n👶 Wstęp dla dzieci do lat 12 – bezpłatny\n\n\n\n🎫 Dostęp do trybuny VIP wyłącznie z biletem lub karnetem VIP\n\n\n\n🚧 Wjazd na teren obiektu wyłącznie dla osób upoważnionych\n\n\n\n\n\n\n\n\nNie przegap tego wydarzenia!Przyjdź z rodziną i znajomymi\, wspieraj ŁKS Łomża i baw się razem z nami!
URL:https://lks.lomza.pl/wydarzenia/lks-lomza-widzew-ii-lodz/
ATTACH;FMTTYPE=image/jpeg:https://lks.lomza.pl/wp-content/uploads/2025/08/BA1A7410-scaled.jpg
END:VEVENT
BEGIN:VEVENT
DTSTART;TZID=UTC:20250802T183000
DTEND;TZID=UTC:20250802T203000
DTSTAMP:20260426T000619
CREATED:20250728T162251Z
LAST-MODIFIED:20250805T100507Z
UID:10000009-1754159400-1754166600@lks.lomza.pl
SUMMARY:WARTA SIERADZ - ŁKS ŁOMŻA (1-2)
DESCRIPTION:
URL:https://lks.lomza.pl/wydarzenia/lks-lomza-real-madryt/
END:VEVENT
END:VCALENDAR